BEGIN:VCALENDAR
VERSION:2.0
PRODID:-// - ECPv6.15.20//NONSGML v1.0//EN
CALSCALE:GREGORIAN
METHOD:PUBLISH
X-ORIGINAL-URL:https://farmersindependent.com
X-WR-CALDESC:Events for 
REFRESH-INTERVAL;VALUE=DURATION:PT1H
X-Robots-Tag:noindex
X-PUBLISHED-TTL:PT1H
BEGIN:VTIMEZONE
TZID:America/Chicago
BEGIN:DAYLIGHT
TZOFFSETFROM:-0600
TZOFFSETTO:-0500
TZNAME:CDT
DTSTART:20250309T080000
END:DAYLIGHT
BEGIN:STANDARD
TZOFFSETFROM:-0500
TZOFFSETTO:-0600
TZNAME:CST
DTSTART:20251102T070000
END:STANDARD
BEGIN:DAYLIGHT
TZOFFSETFROM:-0600
TZOFFSETTO:-0500
TZNAME:CDT
DTSTART:20260308T080000
END:DAYLIGHT
BEGIN:STANDARD
TZOFFSETFROM:-0500
TZOFFSETTO:-0600
TZNAME:CST
DTSTART:20261101T070000
END:STANDARD
BEGIN:DAYLIGHT
TZOFFSETFROM:-0600
TZOFFSETTO:-0500
TZNAME:CDT
DTSTART:20270314T080000
END:DAYLIGHT
BEGIN:STANDARD
TZOFFSETFROM:-0500
TZOFFSETTO:-0600
TZNAME:CST
DTSTART:20271107T070000
END:STANDARD
END:VTIMEZONE
BEGIN:VEVENT
DTSTART;TZID=America/Chicago:20260425T173000
DTEND;TZID=America/Chicago:20260425T200000
DTSTAMP:20260421T062401
CREATED:20260413T175222Z
LAST-MODIFIED:20260413T175222Z
UID:30500-1777138200-1777147200@farmersindependent.com
SUMMARY:"Songs of America's Hometowns"
DESCRIPTION:On Saturday\, April 25\, join Charlie Maguire at Clearwater Lutheran Church in Shevlin for his free program “Songs of America’s Hometowns”. Dinner will be from 5:30 to 6:30 pm (free will donation) and the concert at 6:45 pm. Performed on guitar\, harmonica\, jawharp\, spoons\, and the frying pan – the essence of the American Spirit spills out in a collection of original and traditional songs by a master folksinger and recording artist.
URL:https://farmersindependent.com/event/songs-of-americas-hometowns/
CATEGORIES:Shevlin
END:VEVENT
END:VCALENDAR