BEGIN:VCALENDAR
VERSION:2.0
PRODID:-// - ECPv6.15.20//NONSGML v1.0//EN
CALSCALE:GREGORIAN
METHOD:PUBLISH
X-ORIGINAL-URL:https://farmersindependent.com
X-WR-CALDESC:Events for 
REFRESH-INTERVAL;VALUE=DURATION:PT1H
X-Robots-Tag:noindex
X-PUBLISHED-TTL:PT1H
BEGIN:VTIMEZONE
TZID:America/Chicago
BEGIN:DAYLIGHT
TZOFFSETFROM:-0600
TZOFFSETTO:-0500
TZNAME:CDT
DTSTART:20250309T080000
END:DAYLIGHT
BEGIN:STANDARD
TZOFFSETFROM:-0500
TZOFFSETTO:-0600
TZNAME:CST
DTSTART:20251102T070000
END:STANDARD
BEGIN:DAYLIGHT
TZOFFSETFROM:-0600
TZOFFSETTO:-0500
TZNAME:CDT
DTSTART:20260308T080000
END:DAYLIGHT
BEGIN:STANDARD
TZOFFSETFROM:-0500
TZOFFSETTO:-0600
TZNAME:CST
DTSTART:20261101T070000
END:STANDARD
BEGIN:DAYLIGHT
TZOFFSETFROM:-0600
TZOFFSETTO:-0500
TZNAME:CDT
DTSTART:20270314T080000
END:DAYLIGHT
BEGIN:STANDARD
TZOFFSETFROM:-0500
TZOFFSETTO:-0600
TZNAME:CST
DTSTART:20271107T070000
END:STANDARD
END:VTIMEZONE
BEGIN:VEVENT
DTSTART;TZID=America/Chicago:20260502T170000
DTEND;TZID=America/Chicago:20260502T190000
DTSTAMP:20260421T081130
CREATED:20260416T191310Z
LAST-MODIFIED:20260416T192509Z
UID:30552-1777741200-1777748400@farmersindependent.com
SUMMARY:Gonvick Fire Department Spring Fundraiser
DESCRIPTION:The Gonvick Fire Department is conducting its annual spring fundraiser on May 2nd at the Gonvick Fire Hall from 5Pm -7PM.  All residents of the Gonvick Fire District are welcome to come and show their support.  Anyone that is looking to support first responders is welcome to join.  The Gonvick Fire hall is located at 177 North Ave\, in Gonvick.
URL:https://farmersindependent.com/event/gonvick-fire-department-spring-fundraiser/
CATEGORIES:Gonvick
END:VEVENT
BEGIN:VEVENT
DTSTART;TZID=America/Chicago:20260513T110000
DTEND;TZID=America/Chicago:20260513T123000
DTSTAMP:20260421T081130
CREATED:20260416T193546Z
LAST-MODIFIED:20260416T193546Z
UID:30567-1778670000-1778675400@farmersindependent.com
SUMMARY:Friends in the Kitchen Cooking Class
DESCRIPTION:May 13 from 11am – 12:30 pm CWCL Gonvick. \nAre you 55 or older? Join Angie & Connie at the Friends in the Kitchen monthly class for these FREE sessions & learn how to create healthy\, affordable\, easy-to-make meals while making new friends.
URL:https://farmersindependent.com/event/friends-in-the-kitchen-cooking-class-2/
CATEGORIES:Gonvick
END:VEVENT
END:VCALENDAR