BEGIN:VCALENDAR
VERSION:2.0
PRODID:-// - ECPv6.15.20//NONSGML v1.0//EN
CALSCALE:GREGORIAN
METHOD:PUBLISH
X-ORIGINAL-URL:https://farmersindependent.com
X-WR-CALDESC:Events for 
REFRESH-INTERVAL;VALUE=DURATION:PT1H
X-Robots-Tag:noindex
X-PUBLISHED-TTL:PT1H
BEGIN:VTIMEZONE
TZID:America/Chicago
BEGIN:DAYLIGHT
TZOFFSETFROM:-0600
TZOFFSETTO:-0500
TZNAME:CDT
DTSTART:20250309T080000
END:DAYLIGHT
BEGIN:STANDARD
TZOFFSETFROM:-0500
TZOFFSETTO:-0600
TZNAME:CST
DTSTART:20251102T070000
END:STANDARD
BEGIN:DAYLIGHT
TZOFFSETFROM:-0600
TZOFFSETTO:-0500
TZNAME:CDT
DTSTART:20260308T080000
END:DAYLIGHT
BEGIN:STANDARD
TZOFFSETFROM:-0500
TZOFFSETTO:-0600
TZNAME:CST
DTSTART:20261101T070000
END:STANDARD
BEGIN:DAYLIGHT
TZOFFSETFROM:-0600
TZOFFSETTO:-0500
TZNAME:CDT
DTSTART:20270314T080000
END:DAYLIGHT
BEGIN:STANDARD
TZOFFSETFROM:-0500
TZOFFSETTO:-0600
TZNAME:CST
DTSTART:20271107T070000
END:STANDARD
END:VTIMEZONE
BEGIN:VEVENT
DTSTART;TZID=America/Chicago:20260303T130000
DTEND;TZID=America/Chicago:20260303T140000
DTSTAMP:20260419T105113
CREATED:20260223T222917Z
LAST-MODIFIED:20260223T222917Z
UID:29994-1772542800-1772546400@farmersindependent.com
SUMMARY:Faith Lutheran WELCA meeting
DESCRIPTION:Faith Lutheran Church WELCA will meet on Tuesday\, March 3\, at 1:00 p.m. Guest speakers will be Faith Lutheran’s new pastor\, Tim Mantei\, and his wife\, Janet Mantei. They will share about the congregations they have previously served and how they came to accept the call to Faith Lutheran in Bagley. Please join us in warmly welcoming them to our church and community! Coffee and dessert will be served following the program. \nWe also invite you to bring non-perishable food items to be donated to the Clearwater County Food Shelf to help replenish their shelves.
URL:https://farmersindependent.com/event/faith-lutheran-welca-meeting/
CATEGORIES:Church
END:VEVENT
END:VCALENDAR