BEGIN:VCALENDAR
VERSION:2.0
PRODID:-// - ECPv6.15.20//NONSGML v1.0//EN
CALSCALE:GREGORIAN
METHOD:PUBLISH
X-ORIGINAL-URL:https://farmersindependent.com
X-WR-CALDESC:Events for 
REFRESH-INTERVAL;VALUE=DURATION:PT1H
X-Robots-Tag:noindex
X-PUBLISHED-TTL:PT1H
BEGIN:VTIMEZONE
TZID:America/Chicago
BEGIN:DAYLIGHT
TZOFFSETFROM:-0600
TZOFFSETTO:-0500
TZNAME:CDT
DTSTART:20250309T080000
END:DAYLIGHT
BEGIN:STANDARD
TZOFFSETFROM:-0500
TZOFFSETTO:-0600
TZNAME:CST
DTSTART:20251102T070000
END:STANDARD
BEGIN:DAYLIGHT
TZOFFSETFROM:-0600
TZOFFSETTO:-0500
TZNAME:CDT
DTSTART:20260308T080000
END:DAYLIGHT
BEGIN:STANDARD
TZOFFSETFROM:-0500
TZOFFSETTO:-0600
TZNAME:CST
DTSTART:20261101T070000
END:STANDARD
BEGIN:DAYLIGHT
TZOFFSETFROM:-0600
TZOFFSETTO:-0500
TZNAME:CDT
DTSTART:20270314T080000
END:DAYLIGHT
BEGIN:STANDARD
TZOFFSETFROM:-0500
TZOFFSETTO:-0600
TZNAME:CST
DTSTART:20271107T070000
END:STANDARD
END:VTIMEZONE
BEGIN:VEVENT
DTSTART;TZID=America/Chicago:20260411T100000
DTEND;TZID=America/Chicago:20260411T120000
DTSTAMP:20260420T044919
CREATED:20260330T150107Z
LAST-MODIFIED:20260330T203456Z
UID:30343-1775901600-1775908800@farmersindependent.com
SUMMARY:Young Artists: The Dotted World of Georges Seurat
DESCRIPTION:Did you know you can create a masterpiece using nothing but tiny dots? Young artists (and the young at heart) are invited to explore the colorful world of Pointillism on Saturday\, April 11 from 10 am -12 pm at the Bagley Public Library.  The workshop will begin with the story of Georges Seurat\, the artist who revolutionized the art world with his “dotted” technique\, before participants grab a brush to create their own Seurat-inspired work of art. \nThis program is geared for youth ages 5–18\, though art enthusiasts of all ages are welcome. All supplies are provided free of charge. \n 
URL:https://farmersindependent.com/event/young-artists-the-dotted-world-of-georges-seurat/
CATEGORIES:Bagley Public Library
END:VEVENT
BEGIN:VEVENT
DTSTART;TZID=America/Chicago:20260418T130000
DTEND;TZID=America/Chicago:20260418T160000
DTSTAMP:20260420T044919
CREATED:20260330T151233Z
LAST-MODIFIED:20260330T151233Z
UID:30347-1776517200-1776528000@farmersindependent.com
SUMMARY:Barn Quilt Painting Workshop
DESCRIPTION:Saturday\, April 18 from 1 to 4 pm. Unleash your inner artist and celebrate a beautiful tradition that defines Minnesota’s rural landscape! Join us for a hands-on workshop and paint your very own Barn Quilt under the expert guidance of Mary Jo Schmid from Crooked Lane Farm Folk School. Registration is required for this program\, which is offered free-of-charge and is being offered in 12 communities in northwest Minnesota. Register by calling the Bagley Public Library or other participating location or by visiting larl.org/barnquilt. Registration is required. \nA full calendar can be found at larl.org/events. The Bagley Public Library is located at 79 Spencer Ave. SW.
URL:https://farmersindependent.com/event/barn-quilt-painting-workshop/
CATEGORIES:Bagley Public Library
END:VEVENT
BEGIN:VEVENT
DTSTART;TZID=America/Chicago:20260425T100000
DTEND;TZID=America/Chicago:20260425T120000
DTSTAMP:20260420T044919
CREATED:20260413T213835Z
LAST-MODIFIED:20260413T213835Z
UID:30510-1777111200-1777118400@farmersindependent.com
SUMMARY:Bagley Public Library Host for Space Gardening Program
DESCRIPTION:Are you interested in growing a garden but don’t have a lot of space? Join us and learn about small – space gardening. Join the Bagley Public Library for an event designed to help you explore raised beds and container gardening. Master Gardener volunteers Linda Gulbranson\, Nancy Ames\, Kathy Rasch and Lynn Riggs to discuss the many ways you can create a flourishing vegetable\, herb and flower garden while maximizing the space you currently have. Whether you have a small yard\, deck\, balcony or porch\, you can create beautiful flower displays and grow your own fresh vegetables in Minnesota’s Zone(s) 3/4 climate and short growing season. \nThe workshop is scheduled Saturday\, April 25 from 10 am – noon at the Bagley Public Library\, 79 Spencer Ave. Topics include: Raised bed\, container and vertical gardening\, Site\, planter and soil selection\, Square foot gardening\, companion planting and succession planting\, and more. \nAdmission is free and no registration is required. A full calendar of events can be found at larl.org/events.
URL:https://farmersindependent.com/event/bagley-public-library-host-for-space-gardening-program/
CATEGORIES:Bagley Public Library
END:VEVENT
END:VCALENDAR