BEGIN:VCALENDAR
VERSION:2.0
PRODID:-// - ECPv6.15.20//NONSGML v1.0//EN
CALSCALE:GREGORIAN
METHOD:PUBLISH
X-ORIGINAL-URL:https://farmersindependent.com
X-WR-CALDESC:Events for 
REFRESH-INTERVAL;VALUE=DURATION:PT1H
X-Robots-Tag:noindex
X-PUBLISHED-TTL:PT1H
BEGIN:VTIMEZONE
TZID:America/Chicago
BEGIN:DAYLIGHT
TZOFFSETFROM:-0600
TZOFFSETTO:-0500
TZNAME:CDT
DTSTART:20250309T080000
END:DAYLIGHT
BEGIN:STANDARD
TZOFFSETFROM:-0500
TZOFFSETTO:-0600
TZNAME:CST
DTSTART:20251102T070000
END:STANDARD
BEGIN:DAYLIGHT
TZOFFSETFROM:-0600
TZOFFSETTO:-0500
TZNAME:CDT
DTSTART:20260308T080000
END:DAYLIGHT
BEGIN:STANDARD
TZOFFSETFROM:-0500
TZOFFSETTO:-0600
TZNAME:CST
DTSTART:20261101T070000
END:STANDARD
BEGIN:DAYLIGHT
TZOFFSETFROM:-0600
TZOFFSETTO:-0500
TZNAME:CDT
DTSTART:20270314T080000
END:DAYLIGHT
BEGIN:STANDARD
TZOFFSETFROM:-0500
TZOFFSETTO:-0600
TZNAME:CST
DTSTART:20271107T070000
END:STANDARD
END:VTIMEZONE
BEGIN:VEVENT
DTSTART;VALUE=DATE:20260416
DTEND;VALUE=DATE:20260426
DTSTAMP:20260425T081009
CREATED:20260410T162426Z
LAST-MODIFIED:20260410T162426Z
UID:30474-1776297600-1777161599@farmersindependent.com
SUMMARY:Itasca State Park Nature Programs
DESCRIPTION:Kid’s Science Discovery: Spring Sounds \nThursday\, April 16\, 2026\, from 1:30 – 2:30 pm \nMeet at the Jacob V. Brower Visitor Center \nKids\, spring is here\, and the animals are getting active! Let’s learn about the unique sounds that birds\, frogs\, and other critters make. Science Discovery programs are geared for students looking to take the classroom outside. Itasca is a wonderful outdoor learning space to explore the natural world. What to Bring: This program will include going outdoors if weather allows\, so plan for the weather. Dress in layers and wear snow boots. \n  \nCircle Time Under the Pines: E is for Eggs \nWednesday\, April 22\, 2026\, from 11 – 11:45 am \nMeet at the Jacob V. Brower Visitor Center (look for the big building under the big pine trees.) \nChildren 2-5 years old\, come explore Itasca as we learn about nature through stories\, songs\, crafts\, and outdoor discovery. Bring your outdoor clothes as we will be outside exploring nature if weather allows. NOTES: Adults must accompany children. Consider bringing a picnic lunch and enjoying your noon meal around the fireplace in the visitor center lobby after the program. \nSaturday\, April 25\, 2026 is Free Park Day! \n  \nSeeing the CCC: Walking Tour \nSaturday\, April 25\, 2026\, from 12:30 – 1:30 pm \nMeet outside of the Forest Inn. \nCurious about the Civilian Conservation Corps? Want to be able to identify CCC buildings? How has the legacy of the CCC continued today? Join us on a walking tour starting at the Forest Inn and ending at the Old Timer’s Cabin! The tour will last an hour\, and the Old Timer’s Cabin will be open for exploration for an hour following the tour. \n  \nOld Timer’s Cabin\, Open Tour  \nSaturday\, April 25\, 2026\, Cabin open from 1:30 – 2:30 pm (come and go at your leisure) \nHeld at the Old Timer’s Cabin\, located along the boardwalk below Douglas Lodge.  \nOnly 4 (massive) logs tall\, learn more about this Civilian Conservation Corps (CCC) constructed building. The Naturalist staff will have the cabin open for you to tour at your leisure.
URL:https://farmersindependent.com/event/itasca-state-park-nature-programs-2/
CATEGORIES:Itasca State Park
END:VEVENT
BEGIN:VEVENT
DTSTART;VALUE=DATE:20260421
DTEND;VALUE=DATE:20260503
DTSTAMP:20260425T081009
CREATED:20260415T191209Z
LAST-MODIFIED:20260415T191209Z
UID:30545-1776729600-1777766399@farmersindependent.com
SUMMARY:Twin Pines Golf Course open for the season
DESCRIPTION:Hours will be 10 am – 6 pm daily (weather permitting) at this time.
URL:https://farmersindependent.com/event/twin-pines-golf-course-open-for-the-season/
CATEGORIES:Bagley
END:VEVENT
BEGIN:VEVENT
DTSTART;TZID=America/Chicago:20260421T103000
DTEND;TZID=America/Chicago:20260421T113000
DTSTAMP:20260425T081009
CREATED:20260318T211733Z
LAST-MODIFIED:20260318T211733Z
UID:30246-1776767400-1776771000@farmersindependent.com
SUMMARY:County Board of Commissioners
DESCRIPTION:Location – Courthouse board room
URL:https://farmersindependent.com/event/county-board-of-commissioners-6/
CATEGORIES:Clearwater County,Government meeting
END:VEVENT
BEGIN:VEVENT
DTSTART;TZID=America/Chicago:20260421T140000
DTEND;TZID=America/Chicago:20260421T150000
DTSTAMP:20260425T081009
CREATED:20260410T142229Z
LAST-MODIFIED:20260410T142229Z
UID:30472-1776780000-1776783600@farmersindependent.com
SUMMARY:Fosston Public Library Book Club
DESCRIPTION:Fosston Public Library invites community members to join the library’s Book Club for a discussion of The Stolen Child by Ann Hood. Haunted by a decision he made as a young soldier in World War I\, involving a French artist and her baby\, Nick Burns\, with only months left to live\, enlists Jenny\, a college dropout\, to help him unravel the mystery\, forcing them both to reckon with regret\, betrayal and the lives they’ve left behind. The group will meet on Tuesday\, April 21 at 2 p.m. The library’s Book Club meets monthly to discuss great books and meet fellow readers. All are welcome. The Fosston Public library is located at 403 Foss Ave. N. A full calendar of events can be found at larl.org/events.
URL:https://farmersindependent.com/event/fosston-public-library-book-club/
CATEGORIES:Community Event
END:VEVENT
BEGIN:VEVENT
DTSTART;TZID=America/Chicago:20260421T190000
DTEND;TZID=America/Chicago:20260421T200000
DTSTAMP:20260425T081009
CREATED:20260220T155345Z
LAST-MODIFIED:20260220T155345Z
UID:29956-1776798000-1776801600@farmersindependent.com
SUMMARY:Clearwater County Republican Party Meeting
DESCRIPTION:Monthly Executive Board Meeting – All Republicans are welcome. \nLocation – Bagley American Legion Auditorium
URL:https://farmersindependent.com/event/clearwater-county-republican-party-meeting/
CATEGORIES:Clearwater County
END:VEVENT
END:VCALENDAR