BEGIN:VCALENDAR
VERSION:2.0
PRODID:-// - ECPv6.15.20//NONSGML v1.0//EN
CALSCALE:GREGORIAN
METHOD:PUBLISH
X-ORIGINAL-URL:https://farmersindependent.com
X-WR-CALDESC:Events for 
REFRESH-INTERVAL;VALUE=DURATION:PT1H
X-Robots-Tag:noindex
X-PUBLISHED-TTL:PT1H
BEGIN:VTIMEZONE
TZID:America/Chicago
BEGIN:DAYLIGHT
TZOFFSETFROM:-0600
TZOFFSETTO:-0500
TZNAME:CDT
DTSTART:20250309T080000
END:DAYLIGHT
BEGIN:STANDARD
TZOFFSETFROM:-0500
TZOFFSETTO:-0600
TZNAME:CST
DTSTART:20251102T070000
END:STANDARD
BEGIN:DAYLIGHT
TZOFFSETFROM:-0600
TZOFFSETTO:-0500
TZNAME:CDT
DTSTART:20260308T080000
END:DAYLIGHT
BEGIN:STANDARD
TZOFFSETFROM:-0500
TZOFFSETTO:-0600
TZNAME:CST
DTSTART:20261101T070000
END:STANDARD
BEGIN:DAYLIGHT
TZOFFSETFROM:-0600
TZOFFSETTO:-0500
TZNAME:CDT
DTSTART:20270314T080000
END:DAYLIGHT
BEGIN:STANDARD
TZOFFSETFROM:-0500
TZOFFSETTO:-0600
TZNAME:CST
DTSTART:20271107T070000
END:STANDARD
END:VTIMEZONE
BEGIN:VEVENT
DTSTART;VALUE=DATE:20260416
DTEND;VALUE=DATE:20260426
DTSTAMP:20260422T042050
CREATED:20260410T162426Z
LAST-MODIFIED:20260410T162426Z
UID:30474-1776297600-1777161599@farmersindependent.com
SUMMARY:Itasca State Park Nature Programs
DESCRIPTION:Kid’s Science Discovery: Spring Sounds \nThursday\, April 16\, 2026\, from 1:30 – 2:30 pm \nMeet at the Jacob V. Brower Visitor Center \nKids\, spring is here\, and the animals are getting active! Let’s learn about the unique sounds that birds\, frogs\, and other critters make. Science Discovery programs are geared for students looking to take the classroom outside. Itasca is a wonderful outdoor learning space to explore the natural world. What to Bring: This program will include going outdoors if weather allows\, so plan for the weather. Dress in layers and wear snow boots. \n  \nCircle Time Under the Pines: E is for Eggs \nWednesday\, April 22\, 2026\, from 11 – 11:45 am \nMeet at the Jacob V. Brower Visitor Center (look for the big building under the big pine trees.) \nChildren 2-5 years old\, come explore Itasca as we learn about nature through stories\, songs\, crafts\, and outdoor discovery. Bring your outdoor clothes as we will be outside exploring nature if weather allows. NOTES: Adults must accompany children. Consider bringing a picnic lunch and enjoying your noon meal around the fireplace in the visitor center lobby after the program. \nSaturday\, April 25\, 2026 is Free Park Day! \n  \nSeeing the CCC: Walking Tour \nSaturday\, April 25\, 2026\, from 12:30 – 1:30 pm \nMeet outside of the Forest Inn. \nCurious about the Civilian Conservation Corps? Want to be able to identify CCC buildings? How has the legacy of the CCC continued today? Join us on a walking tour starting at the Forest Inn and ending at the Old Timer’s Cabin! The tour will last an hour\, and the Old Timer’s Cabin will be open for exploration for an hour following the tour. \n  \nOld Timer’s Cabin\, Open Tour  \nSaturday\, April 25\, 2026\, Cabin open from 1:30 – 2:30 pm (come and go at your leisure) \nHeld at the Old Timer’s Cabin\, located along the boardwalk below Douglas Lodge.  \nOnly 4 (massive) logs tall\, learn more about this Civilian Conservation Corps (CCC) constructed building. The Naturalist staff will have the cabin open for you to tour at your leisure.
URL:https://farmersindependent.com/event/itasca-state-park-nature-programs-2/
CATEGORIES:Itasca State Park
END:VEVENT
BEGIN:VEVENT
DTSTART;TZID=America/Chicago:20260418T103000
DTEND;TZID=America/Chicago:20260418T113000
DTSTAMP:20260422T042050
CREATED:20260319T151457Z
LAST-MODIFIED:20260319T151457Z
UID:30248-1776508200-1776511800@farmersindependent.com
SUMMARY:Ode to Spring
DESCRIPTION:Click on image to enlarge.
URL:https://farmersindependent.com/event/ode-to-spring/
CATEGORIES:Bagley,Community Event
END:VEVENT
BEGIN:VEVENT
DTSTART;TZID=America/Chicago:20260418T130000
DTEND;TZID=America/Chicago:20260418T160000
DTSTAMP:20260422T042050
CREATED:20260330T151233Z
LAST-MODIFIED:20260330T151233Z
UID:30347-1776517200-1776528000@farmersindependent.com
SUMMARY:Barn Quilt Painting Workshop
DESCRIPTION:Saturday\, April 18 from 1 to 4 pm. Unleash your inner artist and celebrate a beautiful tradition that defines Minnesota’s rural landscape! Join us for a hands-on workshop and paint your very own Barn Quilt under the expert guidance of Mary Jo Schmid from Crooked Lane Farm Folk School. Registration is required for this program\, which is offered free-of-charge and is being offered in 12 communities in northwest Minnesota. Register by calling the Bagley Public Library or other participating location or by visiting larl.org/barnquilt. Registration is required. \nA full calendar can be found at larl.org/events. The Bagley Public Library is located at 79 Spencer Ave. SW.
URL:https://farmersindependent.com/event/barn-quilt-painting-workshop/
CATEGORIES:Bagley Public Library
END:VEVENT
BEGIN:VEVENT
DTSTART;TZID=America/Chicago:20260418T183000
DTEND;TZID=America/Chicago:20260418T213000
DTSTAMP:20260422T042050
CREATED:20260108T193424Z
LAST-MODIFIED:20260108T193424Z
UID:29506-1776537000-1776547800@farmersindependent.com
SUMMARY:Bemidji Contra Dance
DESCRIPTION:Click on image above to enlarge.
URL:https://farmersindependent.com/event/bemidji-contra-dance-4/
CATEGORIES:Community Organization
END:VEVENT
BEGIN:VEVENT
DTSTART;TZID=America/Chicago:20260418T193000
DTEND;TZID=America/Chicago:20260418T210000
DTSTAMP:20260422T042050
CREATED:20260416T193919Z
LAST-MODIFIED:20260416T193919Z
UID:30570-1776540600-1776546000@farmersindependent.com
SUMMARY:Clearbrook-Gonvick 2026 Prom
DESCRIPTION:Clearbrook-Gonvick 2026 Prom “The Golden Hour” \nSaturday\, April 18th\, 2026 \n7:30 pm Grand March at the Clearbrook-Gonvick Gym \n9 pm – 11:30 pm Prom \n11:30 pm – 3:30 am After Prom Party
URL:https://farmersindependent.com/event/clearbrook-gonvick-2026-prom/
CATEGORIES:Clearbrook-Gonvick Public Schools
END:VEVENT
END:VCALENDAR